BEGIN:VCALENDAR
PRODID:-//hacksw/handcal//NONSGML v1.0//EN
VERSION:2.0
METHOD:PUBLISH
BEGIN:VEVENT
DTSTART:20230202T140000Z
DTEND:20230202T150000Z
LOCATION:HYBRID Meeting - VIRTURAL and In-person @ Harbert Center, 2019 - 4th Avenue North, Birmingham, AL 35203
UID:2393520230202T140000ZTOPIC:  Split Dollar Insurance
DTSTAMP:20260424T115128Z
DESCRIPTION:
SUMMARY:TOPIC:  Split Dollar Insurance - Estate Planning Council of Birmingham, Inc. 
PRIORITY:3
BEGIN:VALARM
TRIGGER:PT18H
ACTION:DISPLAY
DESCRIPTION:Reminder
END:VALARM
END:VEVENT
END:VCALENDAR