BEGIN:VCALENDAR
PRODID:-//hacksw/handcal//NONSGML v1.0//EN
VERSION:2.0
METHOD:PUBLISH
BEGIN:VEVENT
DTSTART:20210204T140000Z
DTEND:20210204T150000Z
LOCATION:Zoom LIVE Webinar (use red registration link below)
UID:2061020210204T140000ZLIVE Webinar: How the SECURE Act Changes Retirement (and other) Planning
DTSTAMP:20260421T101623Z
DESCRIPTION:
SUMMARY:LIVE Webinar: How the SECURE Act Changes Retirement (and other) Planning - Estate Planning Council of Birmingham, Inc. 
PRIORITY:3
BEGIN:VALARM
TRIGGER:PT18H
ACTION:DISPLAY
DESCRIPTION:Reminder
END:VALARM
END:VEVENT
END:VCALENDAR